BEGIN:VCALENDAR
VERSION:2.0
PRODID:-//MNCYN - Maternal, Newborn, Child and Youth Network - ECPv6.15.17.1//NONSGML v1.0//EN
CALSCALE:GREGORIAN
METHOD:PUBLISH
X-WR-CALNAME:MNCYN - Maternal, Newborn, Child and Youth Network
X-ORIGINAL-URL:https://mncyn.ca
X-WR-CALDESC:Events for MNCYN - Maternal, Newborn, Child and Youth Network
REFRESH-INTERVAL;VALUE=DURATION:PT1H
X-Robots-Tag:noindex
X-PUBLISHED-TTL:PT1H
BEGIN:VTIMEZONE
TZID:America/Toronto
BEGIN:DAYLIGHT
TZOFFSETFROM:-0500
TZOFFSETTO:-0400
TZNAME:EDT
DTSTART:20220313T070000
END:DAYLIGHT
BEGIN:STANDARD
TZOFFSETFROM:-0400
TZOFFSETTO:-0500
TZNAME:EST
DTSTART:20221106T060000
END:STANDARD
BEGIN:DAYLIGHT
TZOFFSETFROM:-0500
TZOFFSETTO:-0400
TZNAME:EDT
DTSTART:20230312T070000
END:DAYLIGHT
BEGIN:STANDARD
TZOFFSETFROM:-0400
TZOFFSETTO:-0500
TZNAME:EST
DTSTART:20231105T060000
END:STANDARD
BEGIN:DAYLIGHT
TZOFFSETFROM:-0500
TZOFFSETTO:-0400
TZNAME:EDT
DTSTART:20240310T070000
END:DAYLIGHT
BEGIN:STANDARD
TZOFFSETFROM:-0400
TZOFFSETTO:-0500
TZNAME:EST
DTSTART:20241103T060000
END:STANDARD
END:VTIMEZONE
BEGIN:VEVENT
DTSTART;VALUE=DATE:20231022
DTEND;VALUE=DATE:20231024
DTSTAMP:20260421T220541
CREATED:20230713T171239Z
LAST-MODIFIED:20230713T172017Z
UID:18657-1697932800-1698105599@mncyn.ca
SUMMARY:SOGC: Enhanced Obstetrical Skills Workshop
DESCRIPTION:The new Enhanced Obstetrical Skills course promotes improved patient outcomes associated with standardized approaches to common obstetrical procedures. This one-day course combines hands-on sessions focused on obstetrical anal sphincter injuries (OASIS) and impacted fetal head with discussion workshops focused on obesity in pregnancy\, placenta accreta spectrum (PAS) disorders and caesarean section best practices.\nThe SOGC has negotiated a group rate at the Algonquin Resort. Please use this link to reserve a room at the group rate. The last day to book is September 21\, 2023 or once rooms sell out. Book now to secure a room!\nClick for Agenda\n\n\n\n\n\n\n\nWhen: 10/22/2023 7:30 AM – 5:00 PM  Atlantic Daylight Time\n\n\nWhere: Algonquin Resort 184 Adolphus Street St Andrews\, NB E5B1T7 CANADA\n\n\n\n\n\nYou must log in to your membership account to register for the event.
URL:https://mncyn.ca/event/sogc-enhanced-obstetrical-skills-workshop/
LOCATION:Algonquin Resort\, 184 Adolphus Street\, St Andrews\, NB\, E5B1T7
ORGANIZER;CN="The Society of Obstetricians & Gynaecologists of Canada (SOGC)":MAILTO:info@sogc.com
END:VEVENT
BEGIN:VEVENT
DTSTART;TZID=America/Toronto:20231023T083000
DTEND;TZID=America/Toronto:20231023T173000
DTSTAMP:20260421T220541
CREATED:20230913T123352Z
LAST-MODIFIED:20230913T123352Z
UID:18761-1698049800-1698082200@mncyn.ca
SUMMARY:Fetal Health Surveillance Fundamentals Workshop
DESCRIPTION:This workshop is intended for Physicians\, Registered Nurses\, and Registered Midwives (or students of these disciplines) who have limited experience in obstetrical care and want to learn the fundamental concepts of fetal health surveillance. \nObjectives: Upon completion of this course\, learners will be able to: \n\nDiscuss the current guidelines on intrapartum fetal health surveillance\nReview and practice the techniques of FHR auscultation and EFM\nInterpret FHR characteristics from both auscultation and EFM\nIntegrate the concepts of acid-base balance and the interpretation of fetal blood gas values into FHR interpretation\nIdentify important principles of verbal communication and written documentation\nOutline supportive and corrective interventions for various FHR findings\n\nLunch is included in the workshop fee. Please indicate any dietary restrictions when you check out.
URL:https://mncyn.ca/event/fetal-health-surveillance-fundamentals-workshop/
LOCATION:Comfort Inn & Suites\, 135 Gibbons St.\, Goderich\, Ontario\, N6A 3J5\, Canada
CATEGORIES:Fetal Health Surveillance
ORGANIZER;CN="MNCYN":MAILTO:kendra.savage@mncyn.ca
END:VEVENT
BEGIN:VEVENT
DTSTART;TZID=America/Toronto:20231023T110000
DTEND;TZID=America/Toronto:20231023T130000
DTSTAMP:20260421T220541
CREATED:20230825T122211Z
LAST-MODIFIED:20230825T153834Z
UID:18717-1698058800-1698066000@mncyn.ca
SUMMARY:Stratford Hospital Perinatal Case Rounds
DESCRIPTION:Hospital Perinatal Case Rounds for Huron Perth Health Alliance\, Stratford.  These rounds will be hosted virtually via Teams and are recommended for physicians\, nurses\, midwives and allied health workers who offer maternal/newborn care for Huron Perth Health Alliance.  If you have a case that you are interested in discussing\, please contact us at MNCYN so that we can help facilitate that for you.
URL:https://mncyn.ca/event/stratford-hospital-perinatal-case-rounds/
LOCATION:Virtual\, Teams Meeting
CATEGORIES:Case Rounds,Perinatal Events
ORGANIZER;CN="MNCYN-Regional Perinatal Program":MAILTO:gwen.peterek@mncyn.ca
END:VEVENT
END:VCALENDAR