BEGIN:VCALENDAR
VERSION:2.0
PRODID:-//MNCYN - Maternal, Newborn, Child and Youth Network - ECPv6.15.17.1//NONSGML v1.0//EN
CALSCALE:GREGORIAN
METHOD:PUBLISH
X-WR-CALNAME:MNCYN - Maternal, Newborn, Child and Youth Network
X-ORIGINAL-URL:https://mncyn.ca
X-WR-CALDESC:Events for MNCYN - Maternal, Newborn, Child and Youth Network
REFRESH-INTERVAL;VALUE=DURATION:PT1H
X-Robots-Tag:noindex
X-PUBLISHED-TTL:PT1H
BEGIN:VTIMEZONE
TZID:America/Toronto
BEGIN:DAYLIGHT
TZOFFSETFROM:-0500
TZOFFSETTO:-0400
TZNAME:EDT
DTSTART:20250309T070000
END:DAYLIGHT
BEGIN:STANDARD
TZOFFSETFROM:-0400
TZOFFSETTO:-0500
TZNAME:EST
DTSTART:20251102T060000
END:STANDARD
BEGIN:DAYLIGHT
TZOFFSETFROM:-0500
TZOFFSETTO:-0400
TZNAME:EDT
DTSTART:20260308T070000
END:DAYLIGHT
BEGIN:STANDARD
TZOFFSETFROM:-0400
TZOFFSETTO:-0500
TZNAME:EST
DTSTART:20261101T060000
END:STANDARD
BEGIN:DAYLIGHT
TZOFFSETFROM:-0500
TZOFFSETTO:-0400
TZNAME:EDT
DTSTART:20270314T070000
END:DAYLIGHT
BEGIN:STANDARD
TZOFFSETFROM:-0400
TZOFFSETTO:-0500
TZNAME:EST
DTSTART:20271107T060000
END:STANDARD
END:VTIMEZONE
BEGIN:VEVENT
DTSTART;TZID=America/Toronto:20260203T080000
DTEND;TZID=America/Toronto:20260204T160000
DTSTAMP:20260421T042508
CREATED:20251126T163946Z
LAST-MODIFIED:20251126T163946Z
UID:19796-1770105600-1770220800@mncyn.ca
SUMMARY:ACoRN Provider Workshop Feb 2026
DESCRIPTION:Please note:  This is a 2-day event (Feb 3 & 4\, 2026). \nRegistration is OPEN to MNCYN members only at this time (we will open registration to non-members in the new year). \nThe Acute Care of at-Risk Newborns Program (ACoRN) is designed to teach neonatal stabilization\, support the multidisciplinary team\, and identify and care for babies who become unwell or are at risk of becoming unwell in the first few hours or days after birth. \nACoRN uses a logical and systematic approach\, as well as innovative learning tools and decision-making algorithms to: \n\nGather and organize information\nEstablish priorities\nIntervene appropriately\n\nACoRN introduces knowledge and skills sequentially\, using a case-based approach.  It is designed to be useful regardless of a condition’s complexity or how frequently a practitioner is called upon to manage specific conditions.
URL:https://mncyn.ca/event/acorn-program-provider-workshop-feb2026/
LOCATION:London Health Sciences Centre\, 800 Commissioners Rd E.\, Rm. VH B2-119\, London\, ON\, N6A 5W9\, Canada
CATEGORIES:MNCYN Events
ORGANIZER;CN="MNCYN":MAILTO:kendra.savage@mncyn.ca
END:VEVENT
END:VCALENDAR