BEGIN:VCALENDAR
VERSION:2.0
PRODID:-//MNCYN - Maternal, Newborn, Child and Youth Network - ECPv6.15.17.1//NONSGML v1.0//EN
CALSCALE:GREGORIAN
METHOD:PUBLISH
X-WR-CALNAME:MNCYN - Maternal, Newborn, Child and Youth Network
X-ORIGINAL-URL:https://mncyn.ca
X-WR-CALDESC:Events for MNCYN - Maternal, Newborn, Child and Youth Network
REFRESH-INTERVAL;VALUE=DURATION:PT1H
X-Robots-Tag:noindex
X-PUBLISHED-TTL:PT1H
BEGIN:VTIMEZONE
TZID:America/Toronto
BEGIN:DAYLIGHT
TZOFFSETFROM:-0500
TZOFFSETTO:-0400
TZNAME:EDT
DTSTART:20220313T070000
END:DAYLIGHT
BEGIN:STANDARD
TZOFFSETFROM:-0400
TZOFFSETTO:-0500
TZNAME:EST
DTSTART:20221106T060000
END:STANDARD
BEGIN:DAYLIGHT
TZOFFSETFROM:-0500
TZOFFSETTO:-0400
TZNAME:EDT
DTSTART:20230312T070000
END:DAYLIGHT
BEGIN:STANDARD
TZOFFSETFROM:-0400
TZOFFSETTO:-0500
TZNAME:EST
DTSTART:20231105T060000
END:STANDARD
BEGIN:DAYLIGHT
TZOFFSETFROM:-0500
TZOFFSETTO:-0400
TZNAME:EDT
DTSTART:20240310T070000
END:DAYLIGHT
BEGIN:STANDARD
TZOFFSETFROM:-0400
TZOFFSETTO:-0500
TZNAME:EST
DTSTART:20241103T060000
END:STANDARD
END:VTIMEZONE
BEGIN:VEVENT
DTSTART;TZID=America/Toronto:20230920T150000
DTEND;TZID=America/Toronto:20230920T160000
DTSTAMP:20260422T065844
CREATED:20230601T194953Z
LAST-MODIFIED:20230601T194953Z
UID:18507-1695222000-1695225600@mncyn.ca
SUMMARY:PROP Lecture Series - When to Suspect Myocarditis and Approach to it's Management (Webinar)
DESCRIPTION:Hosted\nby\nThe Paediatric Regional Outreach Program\nSeptember 20\, 2023\nDelivered\nby\nDr. Louis Altamirano-Diaz\nRegister here: PROP Case-based Lecture Series | Paediatrician (paediatricscme.ca) \nWEBSITE: \nPaediatric CME – PROP Lecture Series
URL:https://mncyn.ca/event/prop-lecture-series-when-to-suspect-myocarditis-and-approach-to-its-management-webinar/
LOCATION:ON
CATEGORIES:Paediatric Events
ORGANIZER;CN="Paediatric CME Coordinator":MAILTO:paedscmecoordinator@lhsc.on.ca
END:VEVENT
BEGIN:VEVENT
DTSTART;TZID=America/Toronto:20230921T110000
DTEND;TZID=America/Toronto:20230922T153000
DTSTAMP:20260422T065844
CREATED:20230810T163010Z
LAST-MODIFIED:20230810T163010Z
UID:18698-1695294000-1695396600@mncyn.ca
SUMMARY:ACoRN Provider Training
DESCRIPTION:MNCYN is facilitating ACoRN Provider Training with a 2-day Workshop for 4 teams of 3 (Physician\, RN\, and RRT – a Midwife  can attend in place of the RN/RRT).  This training event will take place at LHSC in Rm C4-020 (the Paediatric/Womens Classroom).  Registration closes Sept 8th 2023 and proof of successful completion of the CPS ACoRN online exam must be forwarded by Sept 15th 2023.
URL:https://mncyn.ca/event/acorn-provider-training/
LOCATION:London Health Sciences Centre\, 800 Commissioners Rd E.\, Rm. VH B2-119\, London\, ON\, N6A 5W9\, Canada
CATEGORIES:Other Events
ORGANIZER;CN="MNCYN":MAILTO:kendra.savage@mncyn.ca
END:VEVENT
BEGIN:VEVENT
DTSTART;VALUE=DATE:20230926
DTEND;VALUE=DATE:20230928
DTSTAMP:20260422T065844
CREATED:20230719T164415Z
LAST-MODIFIED:20230719T173318Z
UID:18668-1695686400-1695859199@mncyn.ca
SUMMARY:Children's Hospital Paediatric Update Conference 2023
DESCRIPTION:Click on the link to open and download the Agenda 2023 \nFor more information \nTo register September 26th  or  September 27th\nRegistration Deadline is Sunday\, September 24 (10:00 pm)
URL:https://mncyn.ca/event/paediatric-update-conference-2023/
LOCATION:Best Western Plus Lamplighter Inn\, 591 Wellington Road\, London\, ON\, ON\, Canada
CATEGORIES:Paediatric Events
ORGANIZER;CN="Children%E2%80%99s Hospital Paediatric Update":MAILTO:paedscmecoordinator@lhsc.on.ca
END:VEVENT
BEGIN:VEVENT
DTSTART;TZID=America/Toronto:20230928T113000
DTEND;TZID=America/Toronto:20230928T133000
DTSTAMP:20260422T065844
CREATED:20230810T160904Z
LAST-MODIFIED:20230825T153911Z
UID:18694-1695900600-1695907800@mncyn.ca
SUMMARY:Goderich Hospital Perinatal Case Rounds
DESCRIPTION:Hospital Perinatal Case Rounds for Huron Health System – Goderich.  These rounds will be hosted virtually via Teams and are recommended for physicians\, nurses\, midwives and allied health workers who offer maternal/newborn care at Huron Health Systems – Goderich.  If you have a case that you are interested in discussing\, please contact us at MNCYN so that we can help facilitate that for you.
URL:https://mncyn.ca/event/goderich-hospital-perinatal-case-rounds/
LOCATION:Virtual\, Teams Meeting
CATEGORIES:Case Rounds,Perinatal Events
ORGANIZER;CN="MNCYN-Regional Perinatal Program":MAILTO:gwen.peterek@mncyn.ca
END:VEVENT
END:VCALENDAR