BEGIN:VCALENDAR
VERSION:2.0
PRODID:-//MNCYN - Maternal, Newborn, Child and Youth Network - ECPv6.15.17.1//NONSGML v1.0//EN
CALSCALE:GREGORIAN
METHOD:PUBLISH
X-ORIGINAL-URL:https://mncyn.ca
X-WR-CALDESC:Events for MNCYN - Maternal, Newborn, Child and Youth Network
REFRESH-INTERVAL;VALUE=DURATION:PT1H
X-Robots-Tag:noindex
X-PUBLISHED-TTL:PT1H
BEGIN:VTIMEZONE
TZID:America/Toronto
BEGIN:DAYLIGHT
TZOFFSETFROM:-0500
TZOFFSETTO:-0400
TZNAME:EDT
DTSTART:20220313T070000
END:DAYLIGHT
BEGIN:STANDARD
TZOFFSETFROM:-0400
TZOFFSETTO:-0500
TZNAME:EST
DTSTART:20221106T060000
END:STANDARD
BEGIN:DAYLIGHT
TZOFFSETFROM:-0500
TZOFFSETTO:-0400
TZNAME:EDT
DTSTART:20230312T070000
END:DAYLIGHT
BEGIN:STANDARD
TZOFFSETFROM:-0400
TZOFFSETTO:-0500
TZNAME:EST
DTSTART:20231105T060000
END:STANDARD
BEGIN:DAYLIGHT
TZOFFSETFROM:-0500
TZOFFSETTO:-0400
TZNAME:EDT
DTSTART:20240310T070000
END:DAYLIGHT
BEGIN:STANDARD
TZOFFSETFROM:-0400
TZOFFSETTO:-0500
TZNAME:EST
DTSTART:20241103T060000
END:STANDARD
BEGIN:DAYLIGHT
TZOFFSETFROM:-0500
TZOFFSETTO:-0400
TZNAME:EDT
DTSTART:20250309T070000
END:DAYLIGHT
BEGIN:STANDARD
TZOFFSETFROM:-0400
TZOFFSETTO:-0500
TZNAME:EST
DTSTART:20251102T060000
END:STANDARD
END:VTIMEZONE
BEGIN:VEVENT
DTSTART;VALUE=DATE:20231026
DTEND;VALUE=DATE:20231027
DTSTAMP:20260421T183933
CREATED:20231005T181849Z
LAST-MODIFIED:20231005T181849Z
UID:18785-1698278400-1698364799@mncyn.ca
SUMMARY:Children's Hospital 2 Day Paediatric Advanced Life Support Providers Course (PALS)
DESCRIPTION:Paediatrics Continuing Medical Education \n\n\n\n​PALS Provider Course without BLS – $400 \, with BLS : $420 \n​All courses are certified by the Heart and Stroke Foundation of Canada. LHSC employees\, please contact us for prices. The above costs do not include course materials. PALS Provider course materials are available on the Heart and Stroke Website and include a textbook ($53 + shipping) and PALs Reference card ($10). (Look for the “Shop” tab at the bottom of the page) These are highly recommended\, both for successful completion of the course and for ongoing reference material in your daily practice. \n\n\n 
URL:https://mncyn.ca/event/childrens-hospital-2-day-paediatric-advanced-life-support-providers-course-pals/
LOCATION:Children’s Hospital Michael Gunning Simulation Centre\, 800 Commissioners Rd E\, Room B3-158\, London\, ON\, N6A 5W9\, Canada
CATEGORIES:Paediatric Events,PALS Provider Course
ORGANIZER;CN="Paediatrics Continuing Medical Education":MAILTO:https://www.paediatricscme.ca/contact-us
END:VEVENT
BEGIN:VEVENT
DTSTART;TZID=America/Toronto:20240314T080000
DTEND;TZID=America/Toronto:20240315T160000
DTSTAMP:20260421T183934
CREATED:20240228T160041Z
LAST-MODIFIED:20240228T160041Z
UID:19089-1710403200-1710518400@mncyn.ca
SUMMARY:LHSC - PALS Courses
DESCRIPTION:LHSC is hosting a number of PALS Course offerings this Spring! \n \nClick this link to register: https://forms.office.com/r/zXbb0DDmkb \n 
URL:https://mncyn.ca/event/lhsc-pals-courses/
LOCATION:Children’s Hospital Michael Gunning Simulation Centre\, 800 Commissioners Rd E\, Room B3-158\, London\, ON\, N6A 5W9\, Canada
CATEGORIES:Paediatric Events,PALS Provider Course
END:VEVENT
BEGIN:VEVENT
DTSTART;TZID=America/Toronto:20240429T090000
DTEND;TZID=America/Toronto:20240429T163000
DTSTAMP:20260421T183934
CREATED:20240122T201238Z
LAST-MODIFIED:20240312T173854Z
UID:19003-1714381200-1714408200@mncyn.ca
SUMMARY:NRP Instructor Course (for New Instructors)
DESCRIPTION:Registration is now OPEN to ALL! \nCourse dates: \n\nMonday\, April 29\, 2024\nTuesday\, April 30\, 2024\n\nLocation: Huron Perth Health Alliance\, Stratford \nCapacity: Class size is limited to 30. There has been great demand for this course\, not only from our partner hospitals but also from other hospitals in Ontario Health West. Therefore\, to avoid disappointment\, we encourage your staff to register as soon as possible\, as spaces will fill up quickly. A wait list will be activated when capacity is reached. \nProcess: Registration link will take you to a Pre-Registration questionnaire.  If you meet all qualifications\, you will be sent a separate email with the link to complete your registration.  If you do not meet the pre-requisites\, you will be forwarded an email with information to help you.  If your only outstanding requirement is an updated NRP Online Exam you can still register but make sure to have that completed by the deadline to submit your documents or you may forfeit your spot.  Required documentation is to be submitted to: Kendra Savage.
URL:https://mncyn.ca/event/nrp-instructor-course-for-new-instructors-hold-the-date/
LOCATION:HPHA: Stratford General Hospital\, 6 General Hospital Drive\, Stratford\, ON\, N5A 2Y6\, Canada
CATEGORIES:MNCYN Events,NRP New Instructor Course
ORGANIZER;CN="MNCYN":MAILTO:kendra.savage@mncyn.ca
END:VEVENT
BEGIN:VEVENT
DTSTART;TZID=America/Toronto:20240429T090000
DTEND;TZID=America/Toronto:20240429T163000
DTSTAMP:20260421T183934
CREATED:20240122T201238Z
LAST-MODIFIED:20240312T173854Z
UID:19003-1714381200-1714408200@mncyn.ca
SUMMARY:NRP Instructor Course (for New Instructors)
DESCRIPTION:Registration is now OPEN to ALL! \nCourse dates: \n\nMonday\, April 29\, 2024\nTuesday\, April 30\, 2024\n\nLocation: Huron Perth Health Alliance\, Stratford \nCapacity: Class size is limited to 30. There has been great demand for this course\, not only from our partner hospitals but also from other hospitals in Ontario Health West. Therefore\, to avoid disappointment\, we encourage your staff to register as soon as possible\, as spaces will fill up quickly. A wait list will be activated when capacity is reached. \nProcess: Registration link will take you to a Pre-Registration questionnaire.  If you meet all qualifications\, you will be sent a separate email with the link to complete your registration.  If you do not meet the pre-requisites\, you will be forwarded an email with information to help you.  If your only outstanding requirement is an updated NRP Online Exam you can still register but make sure to have that completed by the deadline to submit your documents or you may forfeit your spot.  Required documentation is to be submitted to: Kendra Savage.
URL:https://mncyn.ca/event/nrp-instructor-course-for-new-instructors-hold-the-date/
LOCATION:HPHA: Stratford General Hospital\, 6 General Hospital Drive\, Stratford\, ON\, N5A 2Y6\, Canada
CATEGORIES:MNCYN Events,NRP New Instructor Course
ORGANIZER;CN="MNCYN":MAILTO:kendra.savage@mncyn.ca
END:VEVENT
BEGIN:VEVENT
DTSTART;TZID=America/Toronto:20240429T090000
DTEND;TZID=America/Toronto:20240429T163000
DTSTAMP:20260421T183934
CREATED:20240122T201238Z
LAST-MODIFIED:20240312T173854Z
UID:19003-1714381200-1714408200@mncyn.ca
SUMMARY:NRP Instructor Course (for New Instructors)
DESCRIPTION:Registration is now OPEN to ALL! \nCourse dates: \n\nMonday\, April 29\, 2024\nTuesday\, April 30\, 2024\n\nLocation: Huron Perth Health Alliance\, Stratford \nCapacity: Class size is limited to 30. There has been great demand for this course\, not only from our partner hospitals but also from other hospitals in Ontario Health West. Therefore\, to avoid disappointment\, we encourage your staff to register as soon as possible\, as spaces will fill up quickly. A wait list will be activated when capacity is reached. \nProcess: Registration link will take you to a Pre-Registration questionnaire.  If you meet all qualifications\, you will be sent a separate email with the link to complete your registration.  If you do not meet the pre-requisites\, you will be forwarded an email with information to help you.  If your only outstanding requirement is an updated NRP Online Exam you can still register but make sure to have that completed by the deadline to submit your documents or you may forfeit your spot.  Required documentation is to be submitted to: Kendra Savage.
URL:https://mncyn.ca/event/nrp-instructor-course-for-new-instructors-hold-the-date/
LOCATION:HPHA: Stratford General Hospital\, 6 General Hospital Drive\, Stratford\, ON\, N5A 2Y6\, Canada
CATEGORIES:MNCYN Events,NRP New Instructor Course
ORGANIZER;CN="MNCYN":MAILTO:kendra.savage@mncyn.ca
END:VEVENT
END:VCALENDAR